BEGIN:VCALENDAR
VERSION:2.0
PRODID:-//Brimbank Youth Services - ECPv6.15.20//NONSGML v1.0//EN
CALSCALE:GREGORIAN
METHOD:PUBLISH
X-ORIGINAL-URL:https://brimbankyouth.com
X-WR-CALDESC:Events for Brimbank Youth Services
REFRESH-INTERVAL;VALUE=DURATION:PT1H
X-Robots-Tag:noindex
X-PUBLISHED-TTL:PT1H
BEGIN:VTIMEZONE
TZID:Australia/Melbourne
BEGIN:STANDARD
TZOFFSETFROM:+1100
TZOFFSETTO:+1000
TZNAME:AEST
DTSTART:20240406T160000
END:STANDARD
BEGIN:DAYLIGHT
TZOFFSETFROM:+1000
TZOFFSETTO:+1100
TZNAME:AEDT
DTSTART:20241005T160000
END:DAYLIGHT
BEGIN:STANDARD
TZOFFSETFROM:+1100
TZOFFSETTO:+1000
TZNAME:AEST
DTSTART:20250405T160000
END:STANDARD
BEGIN:DAYLIGHT
TZOFFSETFROM:+1000
TZOFFSETTO:+1100
TZNAME:AEDT
DTSTART:20251004T160000
END:DAYLIGHT
BEGIN:STANDARD
TZOFFSETFROM:+1100
TZOFFSETTO:+1000
TZNAME:AEST
DTSTART:20260404T160000
END:STANDARD
BEGIN:DAYLIGHT
TZOFFSETFROM:+1000
TZOFFSETTO:+1100
TZNAME:AEDT
DTSTART:20261003T160000
END:DAYLIGHT
END:VTIMEZONE
BEGIN:VEVENT
DTSTART;TZID=Australia/Melbourne:20250904T153000
DTEND;TZID=Australia/Melbourne:20250904T163000
DTSTAMP:20260420T155736
CREATED:20250814T005035Z
LAST-MODIFIED:20250814T005035Z
UID:10002473-1756999800-1757003400@brimbankyouth.com
SUMMARY:Brimbank Youth Fest 2025: Sip\, Paint\, Create!
DESCRIPTION:Express yourself through guided painting while sipping on fancy cool drinks at Sip\, Paint\, Create! \nCome solo or bring your friends – all materials provided. This is an alcohol-free event. \nRegister here
URL:https://brimbankyouth.com/event/brimbank-youth-fest-2025-sip-paint-create/
LOCATION:Sydenham Neighbourhood House\, Station St\, Taylors Lakes\, VIC\, 3038\, Australia
CATEGORIES:Creative
ORGANIZER;CN="Brimbank Neighbourhood House":MAILTO:nhccsocial@brimbank.vic.gov.au
GEO:-37.7004123;144.7741584
X-APPLE-STRUCTURED-LOCATION;VALUE=URI;X-ADDRESS=Sydenham Neighbourhood House Station St Taylors Lakes VIC 3038 Australia;X-APPLE-RADIUS=500;X-TITLE=Station St:geo:144.7741584,-37.7004123
END:VEVENT
BEGIN:VEVENT
DTSTART;TZID=Australia/Melbourne:20250905T153000
DTEND;TZID=Australia/Melbourne:20250905T173000
DTSTAMP:20260420T155736
CREATED:20250814T004630Z
LAST-MODIFIED:20250814T004630Z
UID:10002469-1757086200-1757093400@brimbankyouth.com
SUMMARY:Brimbank Youth Fest 2025: Creative After-School Hangs
DESCRIPTION:Drop in anytime between 3.30pm – 5:30pm on Fridays to take your mind off school\, have a bite to eat\, and get into art-making with our friendly artists at our creative after-school program for Brimbank youth. \nNo bookings are required to join\, just come after school! \nNo registration required.
URL:https://brimbankyouth.com/event/brimbank-youth-fest-2025-creative-after-school-hangs/2025-09-05/
LOCATION:St Albans Community Centre\, Saint Albans\, VIC\, 3021\, Australia
CATEGORIES:Creative
ORGANIZER;CN="Creative Brimbank":MAILTO:creative@brimbank.vic.gov.au
GEO:-37.7435941;144.8016402
END:VEVENT
BEGIN:VEVENT
DTSTART;TZID=Australia/Melbourne:20250908T173000
DTEND;TZID=Australia/Melbourne:20250908T193000
DTSTAMP:20260420T155736
CREATED:20250814T005705Z
LAST-MODIFIED:20250814T005705Z
UID:10002475-1757352600-1757359800@brimbankyouth.com
SUMMARY:Brimbank Youth Fest: Paint It Loud
DESCRIPTION:Love painting? Explore your creativity and connect with local\, like-minded artists as part of Brimbank Youth Fest 2025. \nAll materials provided. For ages 13 to 25. \nRegister here
URL:https://brimbankyouth.com/event/brimbank-youth-fest-paint-it-loud/
LOCATION:Sunshine Library\, 301 Hampshire Rd\, Sunshine\, VIC\, 3020\, Australia
CATEGORIES:Creative
ORGANIZER;CN="Brimbank Libraries":MAILTO:library@brimbank.vic.gov.au
GEO:-37.783111;144.8321327
X-APPLE-STRUCTURED-LOCATION;VALUE=URI;X-ADDRESS=Sunshine Library 301 Hampshire Rd Sunshine VIC 3020 Australia;X-APPLE-RADIUS=500;X-TITLE=301 Hampshire Rd:geo:144.8321327,-37.783111
END:VEVENT
BEGIN:VEVENT
DTSTART;TZID=Australia/Melbourne:20250910T160000
DTEND;TZID=Australia/Melbourne:20250910T180000
DTSTAMP:20260420T155736
CREATED:20250814T010040Z
LAST-MODIFIED:20250814T010048Z
UID:10002477-1757520000-1757527200@brimbankyouth.com
SUMMARY:Brimbank Youth Fest 2025: Brimbank Youth Arts Committee Meeting
DESCRIPTION:Join our Brimbank Youth Arts (BYA) Committee\, a youth-led working group that helps young people develop their creative careers. \nGet training\, find volunteer opportunities and get hands-on experience for your CV! Join us for our September meeting. Snacks provided. \nFor ages 12 to 25. \nJoin the Committee
URL:https://brimbankyouth.com/event/brimbank-youth-fest-brimbank-youth-arts-committee-meeting/
LOCATION:St Albans Community Centre\, Saint Albans\, VIC\, 3021\, Australia
CATEGORIES:Creative
ORGANIZER;CN="Creative Brimbank":MAILTO:creative@brimbank.vic.gov.au
GEO:-37.7435941;144.8016402
END:VEVENT
BEGIN:VEVENT
DTSTART;TZID=Australia/Melbourne:20250912T153000
DTEND;TZID=Australia/Melbourne:20250912T173000
DTSTAMP:20260420T155736
CREATED:20250814T004630Z
LAST-MODIFIED:20250814T004630Z
UID:10002470-1757691000-1757698200@brimbankyouth.com
SUMMARY:Brimbank Youth Fest 2025: Creative After-School Hangs
DESCRIPTION:Drop in anytime between 3.30pm – 5:30pm on Fridays to take your mind off school\, have a bite to eat\, and get into art-making with our friendly artists at our creative after-school program for Brimbank youth. \nNo bookings are required to join\, just come after school! \nNo registration required.
URL:https://brimbankyouth.com/event/brimbank-youth-fest-2025-creative-after-school-hangs/2025-09-12/
LOCATION:St Albans Community Centre\, Saint Albans\, VIC\, 3021\, Australia
CATEGORIES:Creative
ORGANIZER;CN="Creative Brimbank":MAILTO:creative@brimbank.vic.gov.au
GEO:-37.7435941;144.8016402
END:VEVENT
BEGIN:VEVENT
DTSTART;TZID=Australia/Melbourne:20250919T153000
DTEND;TZID=Australia/Melbourne:20250919T173000
DTSTAMP:20260420T155736
CREATED:20250814T004630Z
LAST-MODIFIED:20250814T004630Z
UID:10002471-1758295800-1758303000@brimbankyouth.com
SUMMARY:Brimbank Youth Fest 2025: Creative After-School Hangs
DESCRIPTION:Drop in anytime between 3.30pm – 5:30pm on Fridays to take your mind off school\, have a bite to eat\, and get into art-making with our friendly artists at our creative after-school program for Brimbank youth. \nNo bookings are required to join\, just come after school! \nNo registration required.
URL:https://brimbankyouth.com/event/brimbank-youth-fest-2025-creative-after-school-hangs/2025-09-19/
LOCATION:St Albans Community Centre\, Saint Albans\, VIC\, 3021\, Australia
CATEGORIES:Creative
ORGANIZER;CN="Creative Brimbank":MAILTO:creative@brimbank.vic.gov.au
GEO:-37.7435941;144.8016402
END:VEVENT
BEGIN:VEVENT
DTSTART;TZID=Australia/Melbourne:20250926T153000
DTEND;TZID=Australia/Melbourne:20250926T173000
DTSTAMP:20260420T155736
CREATED:20250814T004630Z
LAST-MODIFIED:20250814T004630Z
UID:10002472-1758900600-1758907800@brimbankyouth.com
SUMMARY:Brimbank Youth Fest 2025: Creative After-School Hangs
DESCRIPTION:Drop in anytime between 3.30pm – 5:30pm on Fridays to take your mind off school\, have a bite to eat\, and get into art-making with our friendly artists at our creative after-school program for Brimbank youth. \nNo bookings are required to join\, just come after school! \nNo registration required.
URL:https://brimbankyouth.com/event/brimbank-youth-fest-2025-creative-after-school-hangs/2025-09-26/
LOCATION:St Albans Community Centre\, Saint Albans\, VIC\, 3021\, Australia
CATEGORIES:Creative
ORGANIZER;CN="Creative Brimbank":MAILTO:creative@brimbank.vic.gov.au
GEO:-37.7435941;144.8016402
END:VEVENT
BEGIN:VEVENT
DTSTART;TZID=Australia/Melbourne:20250927T140000
DTEND;TZID=Australia/Melbourne:20250927T180000
DTSTAMP:20260420T155736
CREATED:20250814T012701Z
LAST-MODIFIED:20250814T012701Z
UID:10002489-1758981600-1758996000@brimbankyouth.com
SUMMARY:Brimbank Youth Fest 2025: Echo Young Creatives Forum
DESCRIPTION:Come and connect with artists in our creative community and youth arts organisations. \nAt the Bowery Theatre\, Brimbank Youth Arts will present an insightful panel discussion\, presentations with art orgs and a chance to learn about the possibilities of a career in the arts. \nFor ages 15+. \nRegister here
URL:https://brimbankyouth.com/event/brimbank-youth-fest-2025-echo-young-creatives-forum/
LOCATION:St Albans Community Centre\, Saint Albans\, VIC\, 3021\, Australia
CATEGORIES:Creative
ORGANIZER;CN="Brimbank Youth Arts":MAILTO:creative@brimbank.vic.gov.au
GEO:-37.7435941;144.8016402
END:VEVENT
END:VCALENDAR