BEGIN:VCALENDAR
VERSION:2.0
PRODID:-//Brimbank Youth Services - ECPv6.15.20//NONSGML v1.0//EN
CALSCALE:GREGORIAN
METHOD:PUBLISH
X-WR-CALNAME:Brimbank Youth Services
X-ORIGINAL-URL:https://brimbankyouth.com
X-WR-CALDESC:Events for Brimbank Youth Services
REFRESH-INTERVAL;VALUE=DURATION:PT1H
X-Robots-Tag:noindex
X-PUBLISHED-TTL:PT1H
BEGIN:VTIMEZONE
TZID:Australia/Melbourne
BEGIN:STANDARD
TZOFFSETFROM:+1100
TZOFFSETTO:+1000
TZNAME:AEST
DTSTART:20250405T160000
END:STANDARD
BEGIN:DAYLIGHT
TZOFFSETFROM:+1000
TZOFFSETTO:+1100
TZNAME:AEDT
DTSTART:20251004T160000
END:DAYLIGHT
BEGIN:STANDARD
TZOFFSETFROM:+1100
TZOFFSETTO:+1000
TZNAME:AEST
DTSTART:20260404T160000
END:STANDARD
BEGIN:DAYLIGHT
TZOFFSETFROM:+1000
TZOFFSETTO:+1100
TZNAME:AEDT
DTSTART:20261003T160000
END:DAYLIGHT
BEGIN:STANDARD
TZOFFSETFROM:+1100
TZOFFSETTO:+1000
TZNAME:AEST
DTSTART:20270403T160000
END:STANDARD
BEGIN:DAYLIGHT
TZOFFSETFROM:+1000
TZOFFSETTO:+1100
TZNAME:AEDT
DTSTART:20271002T160000
END:DAYLIGHT
END:VTIMEZONE
BEGIN:VEVENT
DTSTART;TZID=Australia/Melbourne:20260315T150000
DTEND;TZID=Australia/Melbourne:20260315T163000
DTSTAMP:20260420T020405
CREATED:20260304T225038Z
LAST-MODIFIED:20260304T225038Z
UID:10003257-1773586800-1773592200@brimbankyouth.com
SUMMARY:Flow State: Crafting Hip-Hop with N’fa Jones
DESCRIPTION:Join N’fa Jones for a high-energy dive into hip-hop songwriting. \nLearn how to flip ideas into verses\, build rhythm into your storytelling\, and create lyrics that hit hard and stay true. \nExpect beats\, flow\, creative challenges and an atmosphere that encourages boldness\, honesty and play. No experience needed. \nDiscover the range of events for 2026 Brimbank Writers & Readers Festival events online at brimbanklibraries.vic.gov.au \nThe 2026 Brimbank Writers & Readers Festival is proudly supported by Brimbank City Council\, Victoria University\, Creative Brimbank and Vision Australia Radio. \nFind out more about this events presenter at:\n· Recording Artist N’fa Jones
URL:https://brimbankyouth.com/event/flow-state-crafting-hip-hop-with-nfa-jones/
LOCATION:Sunshine Library\, 301 Hampshire Rd\, Sunshine\, VIC\, 3020\, Australia
CATEGORIES:Creative
ORGANIZER;CN="Brimbank Libraries":MAILTO:library@brimbank.vic.gov.au
GEO:-37.783111;144.8321327
X-APPLE-STRUCTURED-LOCATION;VALUE=URI;X-ADDRESS=Sunshine Library 301 Hampshire Rd Sunshine VIC 3020 Australia;X-APPLE-RADIUS=500;X-TITLE=301 Hampshire Rd:geo:144.8321327,-37.783111
END:VEVENT
END:VCALENDAR