BEGIN:VCALENDAR
VERSION:2.0
PRODID:-//Brimbank Youth Services - ECPv6.15.20//NONSGML v1.0//EN
CALSCALE:GREGORIAN
METHOD:PUBLISH
X-WR-CALNAME:Brimbank Youth Services
X-ORIGINAL-URL:https://brimbankyouth.com
X-WR-CALDESC:Events for Brimbank Youth Services
REFRESH-INTERVAL;VALUE=DURATION:PT1H
X-Robots-Tag:noindex
X-PUBLISHED-TTL:PT1H
BEGIN:VTIMEZONE
TZID:Australia/Melbourne
BEGIN:STANDARD
TZOFFSETFROM:+1100
TZOFFSETTO:+1000
TZNAME:AEST
DTSTART:20240406T160000
END:STANDARD
BEGIN:DAYLIGHT
TZOFFSETFROM:+1000
TZOFFSETTO:+1100
TZNAME:AEDT
DTSTART:20241005T160000
END:DAYLIGHT
BEGIN:STANDARD
TZOFFSETFROM:+1100
TZOFFSETTO:+1000
TZNAME:AEST
DTSTART:20250405T160000
END:STANDARD
BEGIN:DAYLIGHT
TZOFFSETFROM:+1000
TZOFFSETTO:+1100
TZNAME:AEDT
DTSTART:20251004T160000
END:DAYLIGHT
BEGIN:STANDARD
TZOFFSETFROM:+1100
TZOFFSETTO:+1000
TZNAME:AEST
DTSTART:20260404T160000
END:STANDARD
BEGIN:DAYLIGHT
TZOFFSETFROM:+1000
TZOFFSETTO:+1100
TZNAME:AEDT
DTSTART:20261003T160000
END:DAYLIGHT
END:VTIMEZONE
BEGIN:VEVENT
DTSTART;TZID=Australia/Melbourne:20250512T090000
DTEND;TZID=Australia/Melbourne:20250512T163000
DTSTAMP:20260420T140451
CREATED:20250415T134915Z
LAST-MODIFIED:20250415T134915Z
UID:10002131-1747040400-1747067400@brimbankyouth.com
SUMMARY:National Careers Week 2025: Food Handling Course
DESCRIPTION:As part of National Careers Work\, join our Food Handling Course to get ready to work in hospitality. \nGain your food handling certificate in this one-day course\, for a refundable fee of $20. \nDelivered by Jesuit Community College. \nRegister here
URL:https://brimbankyouth.com/event/national-careers-week-2025-food-handling-course/
LOCATION:West Sunshine Community Centre\, 25 Kermeen Street\, West Sunshine\, VIC\, 3020\, Australia
CATEGORIES:Employment
GEO:-37.798772;144.8122039
X-APPLE-STRUCTURED-LOCATION;VALUE=URI;X-ADDRESS=West Sunshine Community Centre 25 Kermeen Street West Sunshine VIC 3020 Australia;X-APPLE-RADIUS=500;X-TITLE=25 Kermeen Street:geo:144.8122039,-37.798772
END:VEVENT
BEGIN:VEVENT
DTSTART;TZID=Australia/Melbourne:20250512T100000
DTEND;TZID=Australia/Melbourne:20250512T110000
DTSTAMP:20260420T140451
CREATED:20250415T135237Z
LAST-MODIFIED:20250415T135237Z
UID:10002132-1747044000-1747047600@brimbankyouth.com
SUMMARY:National Careers Week 2025: Day in the Life of Brimbank Libraries
DESCRIPTION:Ever wanted to work within Brimbank Libraries? \nCome for a tour of Brimbank’s most visited library and learn about the variety of library roles available – from customer service to program officers and more\, what we look for\, and how to apply. \nRegister here
URL:https://brimbankyouth.com/event/national-careers-week-2025-day-in-the-life-of-brimbank-libraries/
LOCATION:Sunshine Library\, 301 Hampshire Rd\, Sunshine\, VIC\, 3020\, Australia
CATEGORIES:Employment
ORGANIZER;CN="Brimbank Libraries":MAILTO:library@brimbank.vic.gov.au
GEO:-37.783111;144.8321327
X-APPLE-STRUCTURED-LOCATION;VALUE=URI;X-ADDRESS=Sunshine Library 301 Hampshire Rd Sunshine VIC 3020 Australia;X-APPLE-RADIUS=500;X-TITLE=301 Hampshire Rd:geo:144.8321327,-37.783111
END:VEVENT
BEGIN:VEVENT
DTSTART;TZID=Australia/Melbourne:20250513T100000
DTEND;TZID=Australia/Melbourne:20250513T110000
DTSTAMP:20260420T140451
CREATED:20250415T135731Z
LAST-MODIFIED:20250415T135731Z
UID:10002133-1747130400-1747134000@brimbankyouth.com
SUMMARY:National Careers Week 2025: Day in the Life of Brimbank Operations Centre
DESCRIPTION:Have you ever wondered what goes on behind-the-scenes at the Brimbank Operations Centre? \nCome for a tour and learn about the variety of roles available – from waste disposal to fleet management and more\, learn what we look for in candidates\, and how to apply. \nRegister here
URL:https://brimbankyouth.com/event/national-careers-week-2025-day-in-the-life-of-brimbank-operations-centre/
LOCATION:Brimbank Resource Recovery Centre\, Stadium Drive\, Keilor Park\, VIC\, 3042\, Australia
CATEGORIES:Employment
GEO:-37.7138748;144.8533667
X-APPLE-STRUCTURED-LOCATION;VALUE=URI;X-ADDRESS=Brimbank Resource Recovery Centre Stadium Drive Keilor Park VIC 3042 Australia;X-APPLE-RADIUS=500;X-TITLE=Stadium Drive:geo:144.8533667,-37.7138748
END:VEVENT
BEGIN:VEVENT
DTSTART;TZID=Australia/Melbourne:20250513T173000
DTEND;TZID=Australia/Melbourne:20250513T193000
DTSTAMP:20260420T140451
CREATED:20250415T142650Z
LAST-MODIFIED:20250415T142650Z
UID:10002136-1747157400-1747164600@brimbankyouth.com
SUMMARY:National Careers Week 2025: Selling Yourself with Confidence
DESCRIPTION:Entry level jobs want experience… but I barely have any. How do I convince employers I’m the right candidate? \nJoin us for this skill building workshop to learn the steps to a successful pitch\, how to project with purpose\, and build the confidence to engage an audience. \nFor ages 15-24\, looking to start their career\, land their first job\, or develop greater communication skills. \nRegister here
URL:https://brimbankyouth.com/event/national-careers-week-2025-selling-yourself-with-confidence/
LOCATION:Sydenham Neighbourhood House\, Station St\, Taylors Lakes\, VIC\, 3038\, Australia
CATEGORIES:Employment
ATTACH;FMTTYPE=image/jpeg:https://brimbankyouth.com/wp-content/uploads/2025/05/ehi1355301-ba40b0e5cac24a26844f4bacfe6f916b.jpeg
GEO:-37.7004123;144.7741584
X-APPLE-STRUCTURED-LOCATION;VALUE=URI;X-ADDRESS=Sydenham Neighbourhood House Station St Taylors Lakes VIC 3038 Australia;X-APPLE-RADIUS=500;X-TITLE=Station St:geo:144.7741584,-37.7004123
END:VEVENT
BEGIN:VEVENT
DTSTART;TZID=Australia/Melbourne:20250514T120000
DTEND;TZID=Australia/Melbourne:20250514T130000
DTSTAMP:20260420T140451
CREATED:20250415T143449Z
LAST-MODIFIED:20250415T143449Z
UID:10002138-1747224000-1747227600@brimbankyouth.com
SUMMARY:National Careers Week 2025: The Art of the Job Interview
DESCRIPTION:Job interviews can be challenging\, but the right strategies can make all the difference. \nJoin an expert from the Victoria University Skills & Jobs Centre to learn tips and tricks that might help you impress employers and land your next role. \nRegister here
URL:https://brimbankyouth.com/event/national-careers-week-2025-the-art-of-the-job-interview/
LOCATION:Visy Cares Hub\, 80B Harvester Road\, Sunshine\, VIC\, 3020\, Australia
CATEGORIES:Employment
GEO:-37.781798;144.8308526
X-APPLE-STRUCTURED-LOCATION;VALUE=URI;X-ADDRESS=Visy Cares Hub 80B Harvester Road Sunshine VIC 3020 Australia;X-APPLE-RADIUS=500;X-TITLE=80B Harvester Road:geo:144.8308526,-37.781798
END:VEVENT
BEGIN:VEVENT
DTSTART;TZID=Australia/Melbourne:20250514T130000
DTEND;TZID=Australia/Melbourne:20250514T170000
DTSTAMP:20260420T140451
CREATED:20250415T143101Z
LAST-MODIFIED:20250415T143101Z
UID:10002137-1747227600-1747242000@brimbankyouth.com
SUMMARY:National Careers Week 2025: Brimbank Local Jobs Showcase
DESCRIPTION:Discover local employment opportunities in:\n– Food Manufacturing\n– Retail\n– Leisure\n– Local Government\n– Plus many more! \nConnect with employers and Registered Training Organisations (RTOs)\, discover pathway opportunities\, ask questions and apply on the day. \nRegister here
URL:https://brimbankyouth.com/event/national-careers-week-2025-brimbank-local-jobs-showcase/
LOCATION:Visy Cares Hub\, 80B Harvester Road\, Sunshine\, VIC\, 3020\, Australia
CATEGORIES:Employment
ATTACH;FMTTYPE=image/png:https://brimbankyouth.com/wp-content/uploads/2025/05/ehi1350481-e7d7ad86b0594bba818ed3cd6aa76ed5.png
GEO:-37.781798;144.8308526
X-APPLE-STRUCTURED-LOCATION;VALUE=URI;X-ADDRESS=Visy Cares Hub 80B Harvester Road Sunshine VIC 3020 Australia;X-APPLE-RADIUS=500;X-TITLE=80B Harvester Road:geo:144.8308526,-37.781798
END:VEVENT
BEGIN:VEVENT
DTSTART;TZID=Australia/Melbourne:20250514T133000
DTEND;TZID=Australia/Melbourne:20250514T143000
DTSTAMP:20260420T140451
CREATED:20250415T143924Z
LAST-MODIFIED:20250415T143924Z
UID:10002139-1747229400-1747233000@brimbankyouth.com
SUMMARY:National Careers Week: Your Rights\, Your Workplace
DESCRIPTION:Join local community legal centre Westjustice and learn about your rights in the workplace. This session will cover laws specific to discrimination\, sexual harassment and bullying\, with opportunity for Q&A with a Westjustice lawyer. \nRegister here
URL:https://brimbankyouth.com/event/national-careers-week-your-rights-your-workplace/
LOCATION:Visy Cares Hub\, 80B Harvester Road\, Sunshine\, VIC\, 3020\, Australia
CATEGORIES:Employment
GEO:-37.781798;144.8308526
X-APPLE-STRUCTURED-LOCATION;VALUE=URI;X-ADDRESS=Visy Cares Hub 80B Harvester Road Sunshine VIC 3020 Australia;X-APPLE-RADIUS=500;X-TITLE=80B Harvester Road:geo:144.8308526,-37.781798
END:VEVENT
BEGIN:VEVENT
DTSTART;TZID=Australia/Melbourne:20250514T153000
DTEND;TZID=Australia/Melbourne:20250514T161500
DTSTAMP:20260420T140451
CREATED:20250415T144426Z
LAST-MODIFIED:20250415T144426Z
UID:10002140-1747236600-1747239300@brimbankyouth.com
SUMMARY:National Careers Week 2025: Volunteering at Brimbank
DESCRIPTION:Hear from Brimbank Council’s Volunteer Coordinator about the different volunteering opportunities available\, what further opportunities they can lead to\, and how to get involved. \nRegister here
URL:https://brimbankyouth.com/event/national-careers-week-2025-volunteering-at-brimbank/
LOCATION:Visy Cares Hub\, 80B Harvester Road\, Sunshine\, VIC\, 3020\, Australia
CATEGORIES:Employment
ATTACH;FMTTYPE=image/jpeg:https://brimbankyouth.com/wp-content/uploads/2025/05/ehi1352919-b6db9b009bfd4077ad733b071a37bdf1.jpeg
GEO:-37.781798;144.8308526
X-APPLE-STRUCTURED-LOCATION;VALUE=URI;X-ADDRESS=Visy Cares Hub 80B Harvester Road Sunshine VIC 3020 Australia;X-APPLE-RADIUS=500;X-TITLE=80B Harvester Road:geo:144.8308526,-37.781798
END:VEVENT
BEGIN:VEVENT
DTSTART;TZID=Australia/Melbourne:20250515T163000
DTEND;TZID=Australia/Melbourne:20250515T173000
DTSTAMP:20260420T140451
CREATED:20250415T140208Z
LAST-MODIFIED:20250415T140208Z
UID:10002134-1747326600-1747330200@brimbankyouth.com
SUMMARY:National Careers Week 2025: Day in the Life of Brimbank Leisure Centre
DESCRIPTION:Ever wanted to work at a Brimbank’s Leisure Centre? \nCome for a tour of Brimbank’s award winning Brimbank Aquatic and Wellness Centre and learn about the variety of roles available – from customer service to lifeguards\, swim teachers and more\, what we look for\, and how to apply. \nRegister here
URL:https://brimbankyouth.com/event/national-careers-week-2025-day-in-the-life-of-brimbank-leisure-centre/
LOCATION:Brimbank Aquatic And Wellness Centre\, 90 Taylors Rd\, Keilor Downs\, VIC\, 3038\, Australia
CATEGORIES:Employment
ATTACH;FMTTYPE=image/jpeg:https://brimbankyouth.com/wp-content/uploads/2025/05/ehi1352940-adafd83f730d480499dc307c7c26edd3-scaled-1.jpeg
ORGANIZER;CN="Brimbank Aquatic And Wellness Centre":MAILTO:bawc@brimbank.vic.gov.au
GEO:-37.7266967;144.8054841
X-APPLE-STRUCTURED-LOCATION;VALUE=URI;X-ADDRESS=Brimbank Aquatic And Wellness Centre 90 Taylors Rd Keilor Downs VIC 3038 Australia;X-APPLE-RADIUS=500;X-TITLE=90 Taylors Rd:geo:144.8054841,-37.7266967
END:VEVENT
BEGIN:VEVENT
DTSTART;TZID=Australia/Melbourne:20250516T100000
DTEND;TZID=Australia/Melbourne:20250516T110000
DTSTAMP:20260420T140451
CREATED:20250415T140701Z
LAST-MODIFIED:20250415T140701Z
UID:10002135-1747389600-1747393200@brimbankyouth.com
SUMMARY:National Careers Week 2025: Day in the Life of Parks & Public Realm
DESCRIPTION:Ever wanted to learn how Brimbank Council plans and designs its landscapes and open spaces within the Parks & Public Realm team? \nCome for a guided walkthrough Sunshine and Sunvale Community Park to learn how Brimbank’s Public Space team operates and the various roles available. \nRegister here
URL:https://brimbankyouth.com/event/national-careers-week-2025-day-in-the-life-of-parks-public-realm/
LOCATION:Brimbank Civic Centre\, 301 Hampshire Rd\, Sunshine\, Victoria\, 3020\, Australia
CATEGORIES:Employment
ATTACH;FMTTYPE=image/jpeg:https://brimbankyouth.com/wp-content/uploads/2025/05/ehi1355340-e3a1aecd44a4464a9c2ddbcb258749cd-scaled-1.jpeg
GEO:-37.783111;144.8321327
X-APPLE-STRUCTURED-LOCATION;VALUE=URI;X-ADDRESS=Brimbank Civic Centre 301 Hampshire Rd Sunshine Victoria 3020 Australia;X-APPLE-RADIUS=500;X-TITLE=301 Hampshire Rd:geo:144.8321327,-37.783111
END:VEVENT
BEGIN:VEVENT
DTSTART;TZID=Australia/Melbourne:20250516T180000
DTEND;TZID=Australia/Melbourne:20250516T200000
DTSTAMP:20260420T140451
CREATED:20250415T144937Z
LAST-MODIFIED:20250415T144937Z
UID:10002141-1747418400-1747425600@brimbankyouth.com
SUMMARY:National Careers Week: Entrepreneurs of Brimbank
DESCRIPTION:Ready to start your own side hustle or simply need a bit of inspiration to take yours to the next level? \nHear from a panel of successful business owners from Brimbank to learn about their journey\, challenges\, successes\, and tips for you to succeed. Light refreshments will be provided. \nRegister here
URL:https://brimbankyouth.com/event/national-careers-week-entrepreneurs-of-brimbank/
LOCATION:Visy Cares Hub\, 80B Harvester Road\, Sunshine\, VIC\, 3020\, Australia
CATEGORIES:Employment
ATTACH;FMTTYPE=image/jpeg:https://brimbankyouth.com/wp-content/uploads/2025/05/ehi1355836-81297093f66a45e3af1bdb84e0dc0c84.jpeg
GEO:-37.781798;144.8308526
X-APPLE-STRUCTURED-LOCATION;VALUE=URI;X-ADDRESS=Visy Cares Hub 80B Harvester Road Sunshine VIC 3020 Australia;X-APPLE-RADIUS=500;X-TITLE=80B Harvester Road:geo:144.8308526,-37.781798
END:VEVENT
BEGIN:VEVENT
DTSTART;TZID=Australia/Melbourne:20250517T103000
DTEND;TZID=Australia/Melbourne:20250517T120000
DTSTAMP:20260420T140451
CREATED:20250415T145319Z
LAST-MODIFIED:20250415T145319Z
UID:10002142-1747477800-1747483200@brimbankyouth.com
SUMMARY:National Careers Week 2025: Boost Your Job Search with ChatGPT
DESCRIPTION:In today’s digital world\, knowing how to use digital tools to save you time and energy has never been more important. \nLearn how you can use AI tools like ChatGPT to halve the time it takes to prepare your job applications. \nRegister here
URL:https://brimbankyouth.com/event/national-careers-week-2025-boost-your-job-search-with-chatgpt/
LOCATION:Sunshine Library\, 301 Hampshire Rd\, Sunshine\, VIC\, 3020\, Australia
CATEGORIES:Employment
ATTACH;FMTTYPE=image/jpeg:https://brimbankyouth.com/wp-content/uploads/2025/05/ehi1355355-bc534d97383e4610928947cf84745e2f.jpeg
GEO:-37.783111;144.8321327
X-APPLE-STRUCTURED-LOCATION;VALUE=URI;X-ADDRESS=Sunshine Library 301 Hampshire Rd Sunshine VIC 3020 Australia;X-APPLE-RADIUS=500;X-TITLE=301 Hampshire Rd:geo:144.8321327,-37.783111
END:VEVENT
BEGIN:VEVENT
DTSTART;TZID=Australia/Melbourne:20250522T103000
DTEND;TZID=Australia/Melbourne:20250522T123000
DTSTAMP:20260420T140451
CREATED:20250514T183422Z
LAST-MODIFIED:20250514T183422Z
UID:10002382-1747909800-1747917000@brimbankyouth.com
SUMMARY:Community Grants Drop-In Session (Brimbank Aquatic and Wellness Centre
DESCRIPTION:Brimbank is hosting a Grants Drop-In Session for those wanting assistance with their grant application. This is your opportunity to meet 1:1 with a member of the Community Grants team. \nLocation: Brimbank Aquatic and Wellness Centre – 90 Taylors Rd\, Keilor Downs VIC 3038 – Foyer\nTime: Thursday 22 May 10.30am – 12.30pm \nVisit Brimbank website for more information. \nRegister here
URL:https://brimbankyouth.com/event/community-grants-drop-in-session-brimbank-keilor/
LOCATION:Brimbank Aquatic And Wellness Centre\, 90 Taylors Rd\, Keilor Downs\, VIC\, 3038\, Australia
CATEGORIES:Employment
ATTACH;FMTTYPE=image/jpeg:https://brimbankyouth.com/wp-content/uploads/2025/06/community-grants-for-news-online-800x450px-for-leigh-1.jpg
GEO:-37.7266967;144.8054841
X-APPLE-STRUCTURED-LOCATION;VALUE=URI;X-ADDRESS=Brimbank Aquatic And Wellness Centre 90 Taylors Rd Keilor Downs VIC 3038 Australia;X-APPLE-RADIUS=500;X-TITLE=90 Taylors Rd:geo:144.8054841,-37.7266967
END:VEVENT
BEGIN:VEVENT
DTSTART;TZID=Australia/Melbourne:20250529T100000
DTEND;TZID=Australia/Melbourne:20250529T120000
DTSTAMP:20260420T140451
CREATED:20250514T190809Z
LAST-MODIFIED:20250514T190809Z
UID:10002386-1748512800-1748520000@brimbankyouth.com
SUMMARY:Community Grants Drop-In Session (Duke Street Community House)
DESCRIPTION:Brimbank is hosting a Grants Drop-In Session for those wanting assistance with their grant application. This is your opportunity to meet 1:1 with a member of the Community Grants team. \nLocation: Duke Street Community House – 27 Duke St\, Sunshine VIC 3020 – Merrigan Room\nTime: Thursday 29 May 10am – 12pm \nVisit Brimbank website for more information. \nRegister here
URL:https://brimbankyouth.com/event/community-grants-drop-in-session-duke-street-community-house/
LOCATION:Duke Street Community House\, 27 Duke Street\, Sunshine\, VIC\, 3020\, Australia
CATEGORIES:Employment
ATTACH;FMTTYPE=image/jpeg:https://brimbankyouth.com/wp-content/uploads/2025/06/community-grants-for-news-online-800x450px-for-leigh-1.jpg
GEO:-37.7911646;144.8448309
X-APPLE-STRUCTURED-LOCATION;VALUE=URI;X-ADDRESS=Duke Street Community House 27 Duke Street Sunshine VIC 3020 Australia;X-APPLE-RADIUS=500;X-TITLE=27 Duke Street:geo:144.8448309,-37.7911646
END:VEVENT
END:VCALENDAR