BEGIN:VCALENDAR
VERSION:2.0
PRODID:-//Brimbank Youth Services - ECPv6.15.20//NONSGML v1.0//EN
CALSCALE:GREGORIAN
METHOD:PUBLISH
X-WR-CALNAME:Brimbank Youth Services
X-ORIGINAL-URL:https://brimbankyouth.com
X-WR-CALDESC:Events for Brimbank Youth Services
REFRESH-INTERVAL;VALUE=DURATION:PT1H
X-Robots-Tag:noindex
X-PUBLISHED-TTL:PT1H
BEGIN:VTIMEZONE
TZID:Australia/Melbourne
BEGIN:STANDARD
TZOFFSETFROM:+1100
TZOFFSETTO:+1000
TZNAME:AEST
DTSTART:20240406T160000
END:STANDARD
BEGIN:DAYLIGHT
TZOFFSETFROM:+1000
TZOFFSETTO:+1100
TZNAME:AEDT
DTSTART:20241005T160000
END:DAYLIGHT
BEGIN:STANDARD
TZOFFSETFROM:+1100
TZOFFSETTO:+1000
TZNAME:AEST
DTSTART:20250405T160000
END:STANDARD
BEGIN:DAYLIGHT
TZOFFSETFROM:+1000
TZOFFSETTO:+1100
TZNAME:AEDT
DTSTART:20251004T160000
END:DAYLIGHT
BEGIN:STANDARD
TZOFFSETFROM:+1100
TZOFFSETTO:+1000
TZNAME:AEST
DTSTART:20260404T160000
END:STANDARD
BEGIN:DAYLIGHT
TZOFFSETFROM:+1000
TZOFFSETTO:+1100
TZNAME:AEDT
DTSTART:20261003T160000
END:DAYLIGHT
END:VTIMEZONE
BEGIN:VEVENT
DTSTART;TZID=Australia/Melbourne:20251001T150000
DTEND;TZID=Australia/Melbourne:20251001T170000
DTSTAMP:20260421T201820
CREATED:20250415T145954Z
LAST-MODIFIED:20250415T145954Z
UID:10002166-1759330800-1759338000@brimbankyouth.com
SUMMARY:Chill & Chat at Sydenham Library
DESCRIPTION:Love video games? Looking for a place to hang out afterschool with friends? Interested in having a say in what you want to do in Brimbank Libraries? Drop in to Sydenham Library for our weekly Chill & Chat sessions and become a part of our library community whereby your ideas matter. Snacks provided. \nAge range: Young People 13-25 years old \nBookings are not essential\, but please feel free to register your interest if you’d like to receive a reminder email. \nRegister here
URL:https://brimbankyouth.com/event/chill-chat-at-sydenham-library/2025-10-01/
LOCATION:Sydenham Library\, 1 Station Street\, Watergardens Town Centre\, Taylors Lakes\, VIC\, 3038\, Australia
CATEGORIES:Social
ATTACH;FMTTYPE=image/jpeg:https://brimbankyouth.com/wp-content/uploads/2025/05/https___cdn.evbuc_.com_images_591219459_83647912129_1_original.jpg
ORGANIZER;CN="Brimbank Libraries":MAILTO:library@brimbank.vic.gov.au
GEO:-37.7004123;144.7741584
X-APPLE-STRUCTURED-LOCATION;VALUE=URI;X-ADDRESS=Sydenham Library 1 Station Street Watergardens Town Centre Taylors Lakes VIC 3038 Australia;X-APPLE-RADIUS=500;X-TITLE=1 Station Street\, Watergardens Town Centre:geo:144.7741584,-37.7004123
END:VEVENT
BEGIN:VEVENT
DTSTART;TZID=Australia/Melbourne:20251001T150000
DTEND;TZID=Australia/Melbourne:20251001T170000
DTSTAMP:20260421T201820
CREATED:20250415T150428Z
LAST-MODIFIED:20250415T150428Z
UID:10002228-1759330800-1759338000@brimbankyouth.com
SUMMARY:Chill & Chat at Deer Park Library
DESCRIPTION:Love video games? Looking for a place to hang out afterschool with friends? Interested in having a say in what you want to do in Brimbank Libraries? Drop in to (library name) for our weekly Chill & Chat sessions and become a part of our library community whereby your ideas matter. Snacks provided. \nAge range: Young People 13-25 years old \nBookings are not essential\, but please feel free to register your interest if you’d like to receive a reminder email. \nRegister here
URL:https://brimbankyouth.com/event/chill-chat-at-deer-park-library/2025-10-01/
LOCATION:Deer Park Library\, 4 Neale Rd\, Deer Park\, VIC\, 3023\, Australia
CATEGORIES:Social
ATTACH;FMTTYPE=image/jpeg:https://brimbankyouth.com/wp-content/uploads/2025/05/https___cdn.evbuc_.com_images_591219459_83647912129_1_original.jpg
ORGANIZER;CN="Brimbank Libraries":MAILTO:library@brimbank.vic.gov.au
GEO:-37.7519776;144.7769537
X-APPLE-STRUCTURED-LOCATION;VALUE=URI;X-ADDRESS=Deer Park Library 4 Neale Rd Deer Park VIC 3023 Australia;X-APPLE-RADIUS=500;X-TITLE=4 Neale Rd:geo:144.7769537,-37.7519776
END:VEVENT
BEGIN:VEVENT
DTSTART;TZID=Australia/Melbourne:20251008T150000
DTEND;TZID=Australia/Melbourne:20251008T170000
DTSTAMP:20260421T201820
CREATED:20250415T145954Z
LAST-MODIFIED:20250415T145954Z
UID:10002167-1759935600-1759942800@brimbankyouth.com
SUMMARY:Chill & Chat at Sydenham Library
DESCRIPTION:Love video games? Looking for a place to hang out afterschool with friends? Interested in having a say in what you want to do in Brimbank Libraries? Drop in to Sydenham Library for our weekly Chill & Chat sessions and become a part of our library community whereby your ideas matter. Snacks provided. \nAge range: Young People 13-25 years old \nBookings are not essential\, but please feel free to register your interest if you’d like to receive a reminder email. \nRegister here
URL:https://brimbankyouth.com/event/chill-chat-at-sydenham-library/2025-10-08/
LOCATION:Sydenham Library\, 1 Station Street\, Watergardens Town Centre\, Taylors Lakes\, VIC\, 3038\, Australia
CATEGORIES:Social
ATTACH;FMTTYPE=image/jpeg:https://brimbankyouth.com/wp-content/uploads/2025/05/https___cdn.evbuc_.com_images_591219459_83647912129_1_original.jpg
ORGANIZER;CN="Brimbank Libraries":MAILTO:library@brimbank.vic.gov.au
GEO:-37.7004123;144.7741584
X-APPLE-STRUCTURED-LOCATION;VALUE=URI;X-ADDRESS=Sydenham Library 1 Station Street Watergardens Town Centre Taylors Lakes VIC 3038 Australia;X-APPLE-RADIUS=500;X-TITLE=1 Station Street\, Watergardens Town Centre:geo:144.7741584,-37.7004123
END:VEVENT
BEGIN:VEVENT
DTSTART;TZID=Australia/Melbourne:20251008T150000
DTEND;TZID=Australia/Melbourne:20251008T170000
DTSTAMP:20260421T201820
CREATED:20250415T150428Z
LAST-MODIFIED:20250415T150428Z
UID:10002229-1759935600-1759942800@brimbankyouth.com
SUMMARY:Chill & Chat at Deer Park Library
DESCRIPTION:Love video games? Looking for a place to hang out afterschool with friends? Interested in having a say in what you want to do in Brimbank Libraries? Drop in to (library name) for our weekly Chill & Chat sessions and become a part of our library community whereby your ideas matter. Snacks provided. \nAge range: Young People 13-25 years old \nBookings are not essential\, but please feel free to register your interest if you’d like to receive a reminder email. \nRegister here
URL:https://brimbankyouth.com/event/chill-chat-at-deer-park-library/2025-10-08/
LOCATION:Deer Park Library\, 4 Neale Rd\, Deer Park\, VIC\, 3023\, Australia
CATEGORIES:Social
ATTACH;FMTTYPE=image/jpeg:https://brimbankyouth.com/wp-content/uploads/2025/05/https___cdn.evbuc_.com_images_591219459_83647912129_1_original.jpg
ORGANIZER;CN="Brimbank Libraries":MAILTO:library@brimbank.vic.gov.au
GEO:-37.7519776;144.7769537
X-APPLE-STRUCTURED-LOCATION;VALUE=URI;X-ADDRESS=Deer Park Library 4 Neale Rd Deer Park VIC 3023 Australia;X-APPLE-RADIUS=500;X-TITLE=4 Neale Rd:geo:144.7769537,-37.7519776
END:VEVENT
BEGIN:VEVENT
DTSTART;TZID=Australia/Melbourne:20251015T150000
DTEND;TZID=Australia/Melbourne:20251015T170000
DTSTAMP:20260421T201820
CREATED:20250415T145954Z
LAST-MODIFIED:20250415T145954Z
UID:10002168-1760540400-1760547600@brimbankyouth.com
SUMMARY:Chill & Chat at Sydenham Library
DESCRIPTION:Love video games? Looking for a place to hang out afterschool with friends? Interested in having a say in what you want to do in Brimbank Libraries? Drop in to Sydenham Library for our weekly Chill & Chat sessions and become a part of our library community whereby your ideas matter. Snacks provided. \nAge range: Young People 13-25 years old \nBookings are not essential\, but please feel free to register your interest if you’d like to receive a reminder email. \nRegister here
URL:https://brimbankyouth.com/event/chill-chat-at-sydenham-library/2025-10-15/
LOCATION:Sydenham Library\, 1 Station Street\, Watergardens Town Centre\, Taylors Lakes\, VIC\, 3038\, Australia
CATEGORIES:Social
ATTACH;FMTTYPE=image/jpeg:https://brimbankyouth.com/wp-content/uploads/2025/05/https___cdn.evbuc_.com_images_591219459_83647912129_1_original.jpg
ORGANIZER;CN="Brimbank Libraries":MAILTO:library@brimbank.vic.gov.au
GEO:-37.7004123;144.7741584
X-APPLE-STRUCTURED-LOCATION;VALUE=URI;X-ADDRESS=Sydenham Library 1 Station Street Watergardens Town Centre Taylors Lakes VIC 3038 Australia;X-APPLE-RADIUS=500;X-TITLE=1 Station Street\, Watergardens Town Centre:geo:144.7741584,-37.7004123
END:VEVENT
BEGIN:VEVENT
DTSTART;TZID=Australia/Melbourne:20251015T150000
DTEND;TZID=Australia/Melbourne:20251015T170000
DTSTAMP:20260421T201820
CREATED:20250415T150428Z
LAST-MODIFIED:20250415T150428Z
UID:10002230-1760540400-1760547600@brimbankyouth.com
SUMMARY:Chill & Chat at Deer Park Library
DESCRIPTION:Love video games? Looking for a place to hang out afterschool with friends? Interested in having a say in what you want to do in Brimbank Libraries? Drop in to (library name) for our weekly Chill & Chat sessions and become a part of our library community whereby your ideas matter. Snacks provided. \nAge range: Young People 13-25 years old \nBookings are not essential\, but please feel free to register your interest if you’d like to receive a reminder email. \nRegister here
URL:https://brimbankyouth.com/event/chill-chat-at-deer-park-library/2025-10-15/
LOCATION:Deer Park Library\, 4 Neale Rd\, Deer Park\, VIC\, 3023\, Australia
CATEGORIES:Social
ATTACH;FMTTYPE=image/jpeg:https://brimbankyouth.com/wp-content/uploads/2025/05/https___cdn.evbuc_.com_images_591219459_83647912129_1_original.jpg
ORGANIZER;CN="Brimbank Libraries":MAILTO:library@brimbank.vic.gov.au
GEO:-37.7519776;144.7769537
X-APPLE-STRUCTURED-LOCATION;VALUE=URI;X-ADDRESS=Deer Park Library 4 Neale Rd Deer Park VIC 3023 Australia;X-APPLE-RADIUS=500;X-TITLE=4 Neale Rd:geo:144.7769537,-37.7519776
END:VEVENT
BEGIN:VEVENT
DTSTART;TZID=Australia/Melbourne:20251022T150000
DTEND;TZID=Australia/Melbourne:20251022T170000
DTSTAMP:20260421T201820
CREATED:20250415T145954Z
LAST-MODIFIED:20250415T145954Z
UID:10002169-1761145200-1761152400@brimbankyouth.com
SUMMARY:Chill & Chat at Sydenham Library
DESCRIPTION:Love video games? Looking for a place to hang out afterschool with friends? Interested in having a say in what you want to do in Brimbank Libraries? Drop in to Sydenham Library for our weekly Chill & Chat sessions and become a part of our library community whereby your ideas matter. Snacks provided. \nAge range: Young People 13-25 years old \nBookings are not essential\, but please feel free to register your interest if you’d like to receive a reminder email. \nRegister here
URL:https://brimbankyouth.com/event/chill-chat-at-sydenham-library/2025-10-22/
LOCATION:Sydenham Library\, 1 Station Street\, Watergardens Town Centre\, Taylors Lakes\, VIC\, 3038\, Australia
CATEGORIES:Social
ATTACH;FMTTYPE=image/jpeg:https://brimbankyouth.com/wp-content/uploads/2025/05/https___cdn.evbuc_.com_images_591219459_83647912129_1_original.jpg
ORGANIZER;CN="Brimbank Libraries":MAILTO:library@brimbank.vic.gov.au
GEO:-37.7004123;144.7741584
X-APPLE-STRUCTURED-LOCATION;VALUE=URI;X-ADDRESS=Sydenham Library 1 Station Street Watergardens Town Centre Taylors Lakes VIC 3038 Australia;X-APPLE-RADIUS=500;X-TITLE=1 Station Street\, Watergardens Town Centre:geo:144.7741584,-37.7004123
END:VEVENT
BEGIN:VEVENT
DTSTART;TZID=Australia/Melbourne:20251022T150000
DTEND;TZID=Australia/Melbourne:20251022T170000
DTSTAMP:20260421T201820
CREATED:20250415T150428Z
LAST-MODIFIED:20250415T150428Z
UID:10002231-1761145200-1761152400@brimbankyouth.com
SUMMARY:Chill & Chat at Deer Park Library
DESCRIPTION:Love video games? Looking for a place to hang out afterschool with friends? Interested in having a say in what you want to do in Brimbank Libraries? Drop in to (library name) for our weekly Chill & Chat sessions and become a part of our library community whereby your ideas matter. Snacks provided. \nAge range: Young People 13-25 years old \nBookings are not essential\, but please feel free to register your interest if you’d like to receive a reminder email. \nRegister here
URL:https://brimbankyouth.com/event/chill-chat-at-deer-park-library/2025-10-22/
LOCATION:Deer Park Library\, 4 Neale Rd\, Deer Park\, VIC\, 3023\, Australia
CATEGORIES:Social
ATTACH;FMTTYPE=image/jpeg:https://brimbankyouth.com/wp-content/uploads/2025/05/https___cdn.evbuc_.com_images_591219459_83647912129_1_original.jpg
ORGANIZER;CN="Brimbank Libraries":MAILTO:library@brimbank.vic.gov.au
GEO:-37.7519776;144.7769537
X-APPLE-STRUCTURED-LOCATION;VALUE=URI;X-ADDRESS=Deer Park Library 4 Neale Rd Deer Park VIC 3023 Australia;X-APPLE-RADIUS=500;X-TITLE=4 Neale Rd:geo:144.7769537,-37.7519776
END:VEVENT
BEGIN:VEVENT
DTSTART;TZID=Australia/Melbourne:20251029T150000
DTEND;TZID=Australia/Melbourne:20251029T170000
DTSTAMP:20260421T201820
CREATED:20250415T145954Z
LAST-MODIFIED:20250415T145954Z
UID:10002170-1761750000-1761757200@brimbankyouth.com
SUMMARY:Chill & Chat at Sydenham Library
DESCRIPTION:Love video games? Looking for a place to hang out afterschool with friends? Interested in having a say in what you want to do in Brimbank Libraries? Drop in to Sydenham Library for our weekly Chill & Chat sessions and become a part of our library community whereby your ideas matter. Snacks provided. \nAge range: Young People 13-25 years old \nBookings are not essential\, but please feel free to register your interest if you’d like to receive a reminder email. \nRegister here
URL:https://brimbankyouth.com/event/chill-chat-at-sydenham-library/2025-10-29/
LOCATION:Sydenham Library\, 1 Station Street\, Watergardens Town Centre\, Taylors Lakes\, VIC\, 3038\, Australia
CATEGORIES:Social
ATTACH;FMTTYPE=image/jpeg:https://brimbankyouth.com/wp-content/uploads/2025/05/https___cdn.evbuc_.com_images_591219459_83647912129_1_original.jpg
ORGANIZER;CN="Brimbank Libraries":MAILTO:library@brimbank.vic.gov.au
GEO:-37.7004123;144.7741584
X-APPLE-STRUCTURED-LOCATION;VALUE=URI;X-ADDRESS=Sydenham Library 1 Station Street Watergardens Town Centre Taylors Lakes VIC 3038 Australia;X-APPLE-RADIUS=500;X-TITLE=1 Station Street\, Watergardens Town Centre:geo:144.7741584,-37.7004123
END:VEVENT
BEGIN:VEVENT
DTSTART;TZID=Australia/Melbourne:20251029T150000
DTEND;TZID=Australia/Melbourne:20251029T170000
DTSTAMP:20260421T201820
CREATED:20250415T150428Z
LAST-MODIFIED:20250415T150428Z
UID:10002232-1761750000-1761757200@brimbankyouth.com
SUMMARY:Chill & Chat at Deer Park Library
DESCRIPTION:Love video games? Looking for a place to hang out afterschool with friends? Interested in having a say in what you want to do in Brimbank Libraries? Drop in to (library name) for our weekly Chill & Chat sessions and become a part of our library community whereby your ideas matter. Snacks provided. \nAge range: Young People 13-25 years old \nBookings are not essential\, but please feel free to register your interest if you’d like to receive a reminder email. \nRegister here
URL:https://brimbankyouth.com/event/chill-chat-at-deer-park-library/2025-10-29/
LOCATION:Deer Park Library\, 4 Neale Rd\, Deer Park\, VIC\, 3023\, Australia
CATEGORIES:Social
ATTACH;FMTTYPE=image/jpeg:https://brimbankyouth.com/wp-content/uploads/2025/05/https___cdn.evbuc_.com_images_591219459_83647912129_1_original.jpg
ORGANIZER;CN="Brimbank Libraries":MAILTO:library@brimbank.vic.gov.au
GEO:-37.7519776;144.7769537
X-APPLE-STRUCTURED-LOCATION;VALUE=URI;X-ADDRESS=Deer Park Library 4 Neale Rd Deer Park VIC 3023 Australia;X-APPLE-RADIUS=500;X-TITLE=4 Neale Rd:geo:144.7769537,-37.7519776
END:VEVENT
BEGIN:VEVENT
DTSTART;TZID=Australia/Melbourne:20251031T180000
DTEND;TZID=Australia/Melbourne:20251031T200000
DTSTAMP:20260421T201820
CREATED:20251015T234157Z
LAST-MODIFIED:20251015T234157Z
UID:10002712-1761933600-1761940800@brimbankyouth.com
SUMMARY:Blue Light Disco – Halloween
DESCRIPTION:Calling all spooks\, goblins\, ghosts and all things that go bump in the night to get on your broom sticks and fly in to our Halloween disco to shake off those cobwebs\, show off your dance moves and win some great prizes. Get ready for a Spooktacular night of fun. Food and lollies for sale on the night. \nFriday 31 October. 6pm to 8pm. \nWho: Primary School attending children (Grades – Year 3 to Year 6)\nTickets: Sales only via Trybookings $10 per ticket (including booking fee)\nDrinks: Free water station & cordial cups available\nChild carer: Children requiring a carer on the night\, parent must make contact prior to disco to discuss.\nProhibited items: Roller Skate Converting Shoes or Heelys are not allowed \nFor more info see terms & conditions via our trybookings \nBlue Light Brimbank in partnership with Blue Light Victoria and Creative Brimbank
URL:https://brimbankyouth.com/event/blue-light-disco-halloween/
LOCATION:St Albans Community Centre\, Saint Albans\, VIC\, 3021\, Australia
CATEGORIES:Entertainment,Social
ORGANIZER;CN="Creative Brimbank":MAILTO:creative@brimbank.vic.gov.au
GEO:-37.7435941;144.8016402
END:VEVENT
END:VCALENDAR