BEGIN:VCALENDAR
VERSION:2.0
PRODID:-//Brimbank Youth Services - ECPv6.15.20//NONSGML v1.0//EN
CALSCALE:GREGORIAN
METHOD:PUBLISH
X-WR-CALNAME:Brimbank Youth Services
X-ORIGINAL-URL:https://brimbankyouth.com
X-WR-CALDESC:Events for Brimbank Youth Services
REFRESH-INTERVAL;VALUE=DURATION:PT1H
X-Robots-Tag:noindex
X-PUBLISHED-TTL:PT1H
BEGIN:VTIMEZONE
TZID:Australia/Melbourne
BEGIN:STANDARD
TZOFFSETFROM:+1100
TZOFFSETTO:+1000
TZNAME:AEST
DTSTART:20250405T160000
END:STANDARD
BEGIN:DAYLIGHT
TZOFFSETFROM:+1000
TZOFFSETTO:+1100
TZNAME:AEDT
DTSTART:20251004T160000
END:DAYLIGHT
BEGIN:STANDARD
TZOFFSETFROM:+1100
TZOFFSETTO:+1000
TZNAME:AEST
DTSTART:20260404T160000
END:STANDARD
BEGIN:DAYLIGHT
TZOFFSETFROM:+1000
TZOFFSETTO:+1100
TZNAME:AEDT
DTSTART:20261003T160000
END:DAYLIGHT
BEGIN:STANDARD
TZOFFSETFROM:+1100
TZOFFSETTO:+1000
TZNAME:AEST
DTSTART:20270403T160000
END:STANDARD
BEGIN:DAYLIGHT
TZOFFSETFROM:+1000
TZOFFSETTO:+1100
TZNAME:AEDT
DTSTART:20271002T160000
END:DAYLIGHT
END:VTIMEZONE
BEGIN:VEVENT
DTSTART;VALUE=DATE:20260314
DTEND;VALUE=DATE:20260315
DTSTAMP:20260421T213705
CREATED:20260304T224628Z
LAST-MODIFIED:20260304T224628Z
UID:24797-1773446400-1773532799@brimbankyouth.com
SUMMARY:Cut\, Paste & Speak: Found-Text Poetry Zines
DESCRIPTION:Work with artist Nathan McGlynn in a one-hour session to turn discarded language into raw\, expressive zines. \nExplore found-text poetry—cut-ups\, erasures\, accidental lines—and remix them into art that feels fresh and a little anarchic. \nPerfect for creatives who like to experiment\, disrupt and rebuild meaning from the scraps left behind. \nDiscover the range of events for 2026 Brimbank Writers & Readers Festival events online at brimbanklibraries.vic.gov.au \nThe 2026 Brimbank Writers & Readers Festival is proudly supported by Brimbank City Council\, Victoria University\, Creative Brimbank and Vision Australia Radio. \nFind out more about this events presenter at:\n· Artist Nathan McGlynn
URL:https://brimbankyouth.com/event/cut-paste-speak-found-text-poetry-zines/
LOCATION:Sunshine Library\, 301 Hampshire Rd\, Sunshine\, VIC\, 3020\, Australia
CATEGORIES:Creative
ORGANIZER;CN="Brimbank Libraries":MAILTO:library@brimbank.vic.gov.au
GEO:-37.783111;144.8321327
X-APPLE-STRUCTURED-LOCATION;VALUE=URI;X-ADDRESS=Sunshine Library 301 Hampshire Rd Sunshine VIC 3020 Australia;X-APPLE-RADIUS=500;X-TITLE=301 Hampshire Rd:geo:144.8321327,-37.783111
END:VEVENT
END:VCALENDAR