BEGIN:VCALENDAR
VERSION:2.0
PRODID:-//Brimbank Youth Services - ECPv6.15.20//NONSGML v1.0//EN
CALSCALE:GREGORIAN
METHOD:PUBLISH
X-ORIGINAL-URL:https://brimbankyouth.com
X-WR-CALDESC:Events for Brimbank Youth Services
REFRESH-INTERVAL;VALUE=DURATION:PT1H
X-Robots-Tag:noindex
X-PUBLISHED-TTL:PT1H
BEGIN:VTIMEZONE
TZID:Australia/Melbourne
BEGIN:STANDARD
TZOFFSETFROM:+1100
TZOFFSETTO:+1000
TZNAME:AEST
DTSTART:20240406T160000
END:STANDARD
BEGIN:DAYLIGHT
TZOFFSETFROM:+1000
TZOFFSETTO:+1100
TZNAME:AEDT
DTSTART:20241005T160000
END:DAYLIGHT
BEGIN:STANDARD
TZOFFSETFROM:+1100
TZOFFSETTO:+1000
TZNAME:AEST
DTSTART:20250405T160000
END:STANDARD
BEGIN:DAYLIGHT
TZOFFSETFROM:+1000
TZOFFSETTO:+1100
TZNAME:AEDT
DTSTART:20251004T160000
END:DAYLIGHT
BEGIN:STANDARD
TZOFFSETFROM:+1100
TZOFFSETTO:+1000
TZNAME:AEST
DTSTART:20260404T160000
END:STANDARD
BEGIN:DAYLIGHT
TZOFFSETFROM:+1000
TZOFFSETTO:+1100
TZNAME:AEDT
DTSTART:20261003T160000
END:DAYLIGHT
END:VTIMEZONE
BEGIN:VEVENT
DTSTART;TZID=Australia/Melbourne:20250925T140000
DTEND;TZID=Australia/Melbourne:20250925T170000
DTSTAMP:20260420T042825
CREATED:20250925T023552Z
LAST-MODIFIED:20250925T023552Z
UID:10002566-1758808800-1758819600@brimbankyouth.com
SUMMARY:Mock Interviews
DESCRIPTION:Book a half hour session with us and we’ll help you practise for your upcoming interview\, or interviews in general! \nSimply let us know what role you’re applying for and we’ll tailor the interview to match. We’ll also provide feedback and tips and tricks to help you work on your craft. \nDrop-ins also welcome\, however we may not always be able to accomodate if someone else is booked in! \nBook here
URL:https://brimbankyouth.com/event/mock-interviews/2025-09-25/
LOCATION:Visy Cares Hub\, 80B Harvester Road\, Sunshine\, VIC\, 3020\, Australia
CATEGORIES:Employment
GEO:-37.781798;144.8308526
X-APPLE-STRUCTURED-LOCATION;VALUE=URI;X-ADDRESS=Visy Cares Hub 80B Harvester Road Sunshine VIC 3020 Australia;X-APPLE-RADIUS=500;X-TITLE=80B Harvester Road:geo:144.8308526,-37.781798
END:VEVENT
BEGIN:VEVENT
DTSTART;TZID=Australia/Melbourne:20250916T173000
DTEND;TZID=Australia/Melbourne:20250916T200000
DTSTAMP:20260420T042825
CREATED:20250828T024726Z
LAST-MODIFIED:20250828T024726Z
UID:10002492-1758043800-1758052800@brimbankyouth.com
SUMMARY:Volleyball Referee Course
DESCRIPTION:For people who live\, work\, or study in Brimbank aged 15 – 25. \nOver 2 sessions\, gain your Level 1 Volleyball Australia referee accreditation. This course is designed to provide a foundational understanding of volleyball refereeing\, including basic rules\, signaling and match protocols. \nA Level 1 Referee Accreditation is the minimum requirement for officiating at a variety of competitions around Australia\, and is an important steppingstone for those looking to reach higher levels of Accreditation. \nYou must attend both sessions on September 9 and September 16 to receive your accreditation. \nRegister here
URL:https://brimbankyouth.com/event/volleyball-referee-course/2025-09-16/
LOCATION:West Sunshine Community Centre\, 25 Kermeen Street\, West Sunshine\, VIC\, 3020\, Australia
CATEGORIES:Physical Activity
GEO:-37.798772;144.8122039
X-APPLE-STRUCTURED-LOCATION;VALUE=URI;X-ADDRESS=West Sunshine Community Centre 25 Kermeen Street West Sunshine VIC 3020 Australia;X-APPLE-RADIUS=500;X-TITLE=25 Kermeen Street:geo:144.8122039,-37.798772
END:VEVENT
BEGIN:VEVENT
DTSTART;TZID=Australia/Melbourne:20250912T173000
DTEND;TZID=Australia/Melbourne:20250912T193000
DTSTAMP:20260420T042825
CREATED:20250814T010616Z
LAST-MODIFIED:20250814T010616Z
UID:10002480-1757698200-1757705400@brimbankyouth.com
SUMMARY:Brimbank Youth Fest 2025: Young Entrepreneurs of Brimbank
DESCRIPTION:Connect with local young entrepreneurs as they chat about how they started their own hustle. \nHear real stories\, get inspired\, and meet other legends keen to build\, create\, and connect. Food provided. \nFor ages 15 to 25. \nRegister here
URL:https://brimbankyouth.com/event/brimbank-youth-fest-2025-young-entrepreneurs-of-brimbank/
LOCATION:Visy Cares Hub\, 80B Harvester Road\, Sunshine\, VIC\, 3020\, Australia
CATEGORIES:Employment
GEO:-37.781798;144.8308526
X-APPLE-STRUCTURED-LOCATION;VALUE=URI;X-ADDRESS=Visy Cares Hub 80B Harvester Road Sunshine VIC 3020 Australia;X-APPLE-RADIUS=500;X-TITLE=80B Harvester Road:geo:144.8308526,-37.781798
END:VEVENT
BEGIN:VEVENT
DTSTART;TZID=Australia/Melbourne:20250909T173000
DTEND;TZID=Australia/Melbourne:20250909T200000
DTSTAMP:20260420T042825
CREATED:20250828T024726Z
LAST-MODIFIED:20250828T024726Z
UID:10002491-1757439000-1757448000@brimbankyouth.com
SUMMARY:Volleyball Referee Course
DESCRIPTION:For people who live\, work\, or study in Brimbank aged 15 – 25. \nOver 2 sessions\, gain your Level 1 Volleyball Australia referee accreditation. This course is designed to provide a foundational understanding of volleyball refereeing\, including basic rules\, signaling and match protocols. \nA Level 1 Referee Accreditation is the minimum requirement for officiating at a variety of competitions around Australia\, and is an important steppingstone for those looking to reach higher levels of Accreditation. \nYou must attend both sessions on September 9 and September 16 to receive your accreditation. \nRegister here
URL:https://brimbankyouth.com/event/volleyball-referee-course/2025-09-09/
LOCATION:West Sunshine Community Centre\, 25 Kermeen Street\, West Sunshine\, VIC\, 3020\, Australia
CATEGORIES:Physical Activity
GEO:-37.798772;144.8122039
X-APPLE-STRUCTURED-LOCATION;VALUE=URI;X-ADDRESS=West Sunshine Community Centre 25 Kermeen Street West Sunshine VIC 3020 Australia;X-APPLE-RADIUS=500;X-TITLE=25 Kermeen Street:geo:144.8122039,-37.798772
END:VEVENT
BEGIN:VEVENT
DTSTART;TZID=Australia/Melbourne:20250904T140000
DTEND;TZID=Australia/Melbourne:20250904T170000
DTSTAMP:20260420T042825
CREATED:20250828T025617Z
LAST-MODIFIED:20250828T025617Z
UID:10002494-1756994400-1757005200@brimbankyouth.com
SUMMARY:Mock Job Interviews
DESCRIPTION:Book a half hour session with us and we’ll help you practise for your upcoming interview\, or interviews in general! \nSimply let us know what role you’re applying for and we’ll tailor the interview to match. We’ll also provide feedback and tips and tricks to help you work on your craft. \nDrop-ins also welcome\, however we may not always be able to accomodate if someone else is booked in! \nRegister here
URL:https://brimbankyouth.com/event/mock-job-interviews/
LOCATION:Visy Cares Hub\, 80B Harvester Road\, Sunshine\, VIC\, 3020\, Australia
CATEGORIES:Employment
GEO:-37.781798;144.8308526
X-APPLE-STRUCTURED-LOCATION;VALUE=URI;X-ADDRESS=Visy Cares Hub 80B Harvester Road Sunshine VIC 3020 Australia;X-APPLE-RADIUS=500;X-TITLE=80B Harvester Road:geo:144.8308526,-37.781798
END:VEVENT
BEGIN:VEVENT
DTSTART;TZID=Australia/Melbourne:20250703T170000
DTEND;TZID=Australia/Melbourne:20250703T190000
DTSTAMP:20260420T042825
CREATED:20250625T133414Z
LAST-MODIFIED:20250625T133414Z
UID:10002457-1751562000-1751569200@brimbankyouth.com
SUMMARY:Linked IRL: Finding Your Right Career
DESCRIPTION:Do you have an strong passion or interest in something and wondered what career would suit that? Or maybe you know what career you want but don’t have a clue on how to reach it? Then come to Linked IRL to learn how to find opportunities that align with your career goals! \nIn partnership with Brimbank Learning Futures and Aspiring Young Africans Foundation (ASPYA)\, Linked IRL is a networking event for young people aged 16-25 years who live\, work\, study\, or recreate in the City of Brimbank\, DESIGNED by young people. \nFor no cost\, we invite you to join us each month to: \n\nHear from insightful guest speakers across a variety of industries\nFind out about opportunities in further education & employment\nBroaden your professional networks\nStrengthen your social connections\n\nThis month\, our youth co-design committee has chosen the theme FINDING YOUR RIGHT CAREER. \nPanel TBC. Refreshments provided. \nRegister here
URL:https://brimbankyouth.com/event/linked-irl-finding-your-right-career/
LOCATION:Visy Cares Hub\, 80B Harvester Road\, Sunshine\, VIC\, 3020\, Australia
CATEGORIES:Employment
ATTACH;FMTTYPE=image/png:https://brimbankyouth.com/wp-content/uploads/2025/06/linked-irl-right-career-web-banner-1000x500-1-e1750894510173.png
GEO:-37.781798;144.8308526
X-APPLE-STRUCTURED-LOCATION;VALUE=URI;X-ADDRESS=Visy Cares Hub 80B Harvester Road Sunshine VIC 3020 Australia;X-APPLE-RADIUS=500;X-TITLE=80B Harvester Road:geo:144.8308526,-37.781798
END:VEVENT
BEGIN:VEVENT
DTSTART;TZID=Australia/Melbourne:20250514T133000
DTEND;TZID=Australia/Melbourne:20250514T143000
DTSTAMP:20260420T042825
CREATED:20250415T143924Z
LAST-MODIFIED:20250415T143924Z
UID:10002139-1747229400-1747233000@brimbankyouth.com
SUMMARY:National Careers Week: Your Rights\, Your Workplace
DESCRIPTION:Join local community legal centre Westjustice and learn about your rights in the workplace. This session will cover laws specific to discrimination\, sexual harassment and bullying\, with opportunity for Q&A with a Westjustice lawyer. \nRegister here
URL:https://brimbankyouth.com/event/national-careers-week-your-rights-your-workplace/
LOCATION:Visy Cares Hub\, 80B Harvester Road\, Sunshine\, VIC\, 3020\, Australia
CATEGORIES:Employment
GEO:-37.781798;144.8308526
X-APPLE-STRUCTURED-LOCATION;VALUE=URI;X-ADDRESS=Visy Cares Hub 80B Harvester Road Sunshine VIC 3020 Australia;X-APPLE-RADIUS=500;X-TITLE=80B Harvester Road:geo:144.8308526,-37.781798
END:VEVENT
BEGIN:VEVENT
DTSTART;TZID=Australia/Melbourne:20250514T130000
DTEND;TZID=Australia/Melbourne:20250514T170000
DTSTAMP:20260420T042825
CREATED:20250415T143101Z
LAST-MODIFIED:20250415T143101Z
UID:10002137-1747227600-1747242000@brimbankyouth.com
SUMMARY:National Careers Week 2025: Brimbank Local Jobs Showcase
DESCRIPTION:Discover local employment opportunities in:\n– Food Manufacturing\n– Retail\n– Leisure\n– Local Government\n– Plus many more! \nConnect with employers and Registered Training Organisations (RTOs)\, discover pathway opportunities\, ask questions and apply on the day. \nRegister here
URL:https://brimbankyouth.com/event/national-careers-week-2025-brimbank-local-jobs-showcase/
LOCATION:Visy Cares Hub\, 80B Harvester Road\, Sunshine\, VIC\, 3020\, Australia
CATEGORIES:Employment
ATTACH;FMTTYPE=image/png:https://brimbankyouth.com/wp-content/uploads/2025/05/ehi1350481-e7d7ad86b0594bba818ed3cd6aa76ed5.png
GEO:-37.781798;144.8308526
X-APPLE-STRUCTURED-LOCATION;VALUE=URI;X-ADDRESS=Visy Cares Hub 80B Harvester Road Sunshine VIC 3020 Australia;X-APPLE-RADIUS=500;X-TITLE=80B Harvester Road:geo:144.8308526,-37.781798
END:VEVENT
BEGIN:VEVENT
DTSTART;TZID=Australia/Melbourne:20250514T120000
DTEND;TZID=Australia/Melbourne:20250514T130000
DTSTAMP:20260420T042825
CREATED:20250415T143449Z
LAST-MODIFIED:20250415T143449Z
UID:10002138-1747224000-1747227600@brimbankyouth.com
SUMMARY:National Careers Week 2025: The Art of the Job Interview
DESCRIPTION:Job interviews can be challenging\, but the right strategies can make all the difference. \nJoin an expert from the Victoria University Skills & Jobs Centre to learn tips and tricks that might help you impress employers and land your next role. \nRegister here
URL:https://brimbankyouth.com/event/national-careers-week-2025-the-art-of-the-job-interview/
LOCATION:Visy Cares Hub\, 80B Harvester Road\, Sunshine\, VIC\, 3020\, Australia
CATEGORIES:Employment
GEO:-37.781798;144.8308526
X-APPLE-STRUCTURED-LOCATION;VALUE=URI;X-ADDRESS=Visy Cares Hub 80B Harvester Road Sunshine VIC 3020 Australia;X-APPLE-RADIUS=500;X-TITLE=80B Harvester Road:geo:144.8308526,-37.781798
END:VEVENT
END:VCALENDAR